BEGIN:VCALENDAR
VERSION:2.0
PRODID:icalendar-ruby
CALSCALE:GREGORIAN
BEGIN:VEVENT
DTSTAMP:20260424T102622Z
UID:98fff4e6-4a0d-44c8-ad08-08c6923a062b
DTSTART;TZID=Pacific/Auckland:20260425T155000
DTEND;TZID=Pacific/Auckland:20260425T161500
DESCRIPTION:Property ID# 995127
SUMMARY:Openhome for 9 Sovereign Court
END:VEVENT
END:VCALENDAR
